BEGIN:VCALENDAR
VERSION:2.0
CALSCALE:GREGORIAN
PRODID:adamgibbons/ics
METHOD:PUBLISH
X-PUBLISHED-TTL:PT1H
BEGIN:VEVENT
UID:127@hattiesburg.askapunk.net
SUMMARY:CHONCY (Cincinnati) \, MELTED CRAYON\, MORE TBA
DTSTAMP:20260420T040906Z
DTSTART:20260525T000000Z
DTEND:20260525T030000Z
DESCRIPTION:CHONCY [https://youtu.be/e6wkkwL6s7o?si=EEDOlCaRQAp2DGHw] - Cin
	cinnati fun weird\ndance punk.\n\nMELTED CRAYON [https://youtu.be/YEmo5QI-
	fxw?si=ncuSPg4qcLnvRZt2] - that good\ntime music you know and love\n\nMORE
	 BANDS TBA\n\nAt Community Arts Center\n\n7pm $7 All Ages
URL:https://hattiesburg.askapunk.net/event/choncy-cincinnati-melted-crayon-
	more-tba
LOCATION:Community Arts Center - 825 N Main St
STATUS:CONFIRMED
CATEGORIES:MELTED CRAYON,CHONCY
X-ALT-DESC;FMTTYPE=text/html:<p><a href="https://youtu.be/e6wkkwL6s7o?si=EE
	DOlCaRQAp2DGHw" target="_blank">CHONCY</a> - Cincinnati fun weird dance pu
	nk. </p><p><a href="https://youtu.be/YEmo5QI-fxw?si=ncuSPg4qcLnvRZt2" targ
	et="_blank">MELTED CRAYON</a> - that good time music you know and love</p>
	<p>MORE BANDS TBA</p><p>At Community Arts Center</p><p>7pm $7 All Ages</p>
BEGIN:VALARM
ACTION:DISPLAY
DESCRIPTION:CHONCY (Cincinnati) , MELTED CRAYON, MORE TBA
TRIGGER:-PT1H
END:VALARM
END:VEVENT
END:VCALENDAR
