BEGIN:VCALENDAR
VERSION:2.0
CALSCALE:GREGORIAN
PRODID:adamgibbons/ics
METHOD:PUBLISH
X-PUBLISHED-TTL:PT1H
BEGIN:VEVENT
UID:128@hattiesburg.askapunk.net
SUMMARY:ST.CLOVIS (Jacksonville)
DTSTAMP:20260422T121019Z
DTSTART:20260723T000000Z
DTEND:20260723T150000Z
DESCRIPTION:ST.CLOVIS returns to Hattiesburg. They destroyed KAFFEEHAUS las
	t time. What will\nhappen now?\n\nLISTEN HERE [https://stclovis.bandcamp.c
	om/album/demonstration-of-rock-and-roll]\n\nLOCALS TO BE ANNOUNCED LATER\n
	\nat\n\nFOURTH STREET TACOS - 2415 W 4th St\n\n&pm - $5-$10 PAY WHAT YOU C
	AN - ALL AGES
URL:https://hattiesburg.askapunk.net/event/stclovis-jacksonville
LOCATION:Fourth Street Tacos - 2415 W 4th St\, Hattiesburg\, MS 39401
STATUS:CONFIRMED
CATEGORIES:ALL AGES,ST.CLOVIS
X-ALT-DESC;FMTTYPE=text/html:<p>ST.CLOVIS returns to Hattiesburg. They dest
	royed KAFFEEHAUS last time. What will happen now?</p><p><a href="https://s
	tclovis.bandcamp.com/album/demonstration-of-rock-and-roll" target="_blank"
	>LISTEN HERE</a></p><p>LOCALS TO BE ANNOUNCED LATER</p><p>at</p><p>FOURTH 
	STREET TACOS - 2415 W 4th St</p><p>&amp;pm - $5-$10 PAY WHAT YOU CAN - ALL
	 AGES</p>
BEGIN:VALARM
ACTION:DISPLAY
DESCRIPTION:ST.CLOVIS (Jacksonville)
TRIGGER:-PT1H
END:VALARM
END:VEVENT
END:VCALENDAR
