BEGIN:VCALENDAR
VERSION:2.0
CALSCALE:GREGORIAN
PRODID:adamgibbons/ics
METHOD:PUBLISH
X-PUBLISHED-TTL:PT1H
BEGIN:VEVENT
UID:126@hattiesburg.askapunk.net
SUMMARY:Snake Mirror (Starkville)\, Pasta the Band\, Juno
DTSTAMP:20260420T041534Z
DTSTART:20260502T003000Z
URL:https://hattiesburg.askapunk.net/event/snake-mirror-starkville-pasta-th
	e-band-juno
LOCATION:Wax Fantastic - 140 E Front St.
STATUS:CONFIRMED
CATEGORIES:
END:VEVENT
END:VCALENDAR
