BEGIN:VCALENDAR
VERSION:2.0
CALSCALE:GREGORIAN
PRODID:adamgibbons/ics
METHOD:PUBLISH
X-PUBLISHED-TTL:PT1H
BEGIN:VEVENT
UID:110@hattiesburg.askapunk.net
SUMMARY:Poetry Open Mic Night
DTSTAMP:20260424T145700Z
DTSTART:20260430T230000Z
DTEND:20260501T010000Z
URL:https://hattiesburg.askapunk.net/event/poetry-open-mic-night-1
LOCATION:Cook Library 209A - 124 Golden Eagle Ave
STATUS:CONFIRMED
CATEGORIES:OPEN MIC,POETRY
END:VEVENT
END:VCALENDAR
